BEGIN:VCALENDAR
VERSION:2.0
PRODID:-//Greystoke Online - ECPv6.15.17.1//NONSGML v1.0//EN
CALSCALE:GREGORIAN
METHOD:PUBLISH
X-ORIGINAL-URL:https://www.greystokevillage.co.uk
X-WR-CALDESC:Events for Greystoke Online
REFRESH-INTERVAL;VALUE=DURATION:PT1H
X-Robots-Tag:noindex
X-PUBLISHED-TTL:PT1H
BEGIN:VTIMEZONE
TZID:Europe/London
BEGIN:DAYLIGHT
TZOFFSETFROM:+0000
TZOFFSETTO:+0100
TZNAME:BST
DTSTART:20240331T010000
END:DAYLIGHT
BEGIN:STANDARD
TZOFFSETFROM:+0100
TZOFFSETTO:+0000
TZNAME:GMT
DTSTART:20241027T010000
END:STANDARD
BEGIN:DAYLIGHT
TZOFFSETFROM:+0000
TZOFFSETTO:+0100
TZNAME:BST
DTSTART:20250330T010000
END:DAYLIGHT
BEGIN:STANDARD
TZOFFSETFROM:+0100
TZOFFSETTO:+0000
TZNAME:GMT
DTSTART:20251026T010000
END:STANDARD
BEGIN:DAYLIGHT
TZOFFSETFROM:+0000
TZOFFSETTO:+0100
TZNAME:BST
DTSTART:20260329T010000
END:DAYLIGHT
BEGIN:STANDARD
TZOFFSETFROM:+0100
TZOFFSETTO:+0000
TZNAME:GMT
DTSTART:20261025T010000
END:STANDARD
END:VTIMEZONE
BEGIN:VEVENT
DTSTART;TZID=Europe/London:20250906T180000
DTEND;TZID=Europe/London:20250906T230000
DTSTAMP:20260420T115511
CREATED:20250716T185856Z
LAST-MODIFIED:20250809T080610Z
UID:32844-1757181600-1757199600@www.greystokevillage.co.uk
SUMMARY:Greystoke Beer Festival 2025 - Saturday night
DESCRIPTION:Welcome to the 2025 edition of the Greystoke Beer Festival!\nTickets are on sale now! https://www.greystokepool.org.uk/2025-greystoke-beer-festival-5th-6th-september/ \nTickets are £18 pp\, and food can be pre-ordered for £12 pp \nFeaturing Cumbrian ales\, wine and prosecco. Live music both nights. All held at Greystoke Village Hall with a garden marquee \nIf you missed them on Friday\, fear not – Saturday night sees Raven Aisling Music return for our early evening acoustic slot. Raven Aisling Music are two very talented young musicians who are making a name for themselves playing at venues in Penrith and Newcastle. Raven has the most amazing voice. We are in for a real treat. \nHeadlining on Saturday will be The Full Treatment.\nBased in Manchester\, The Full Treatment have travelled the length of the UK playing rock\, pop and indie floor fillers to make people’s weddings and parties an unforgettable event. \nMade up of Finn\, Dave\, Charlie and James\, the lads play a combination of two guitars\, keys\, bass\, synth\, drums and up to four-piece vocal harmonies\, with a combined experience of nearly forty years of musicianship and roughly 25 years of combined gigging experience amongst multiple bands. All four members are experienced multi- instrumentalists\, and play regular slots at the\nBierkeller\, in Manchester – so they think they can handle a Greystoke party! \nFood on Saturday night will be provided by Sarah’s Yard at The Clickham Inn.\nA choice of halloumi Saganaki\, chicken souvlaki or spicy lamb kebabs served in warm Greek flatbread with salad\, tzatziki & chips. Vegan option of vegetarian kebabs available.  Please preorder food online. \n 
URL:https://www.greystokevillage.co.uk/event/greystoke-beer-festival-2025-saturday-night/
LOCATION:Greystoke Village Hall\, Greystoke\, Penrith\, CA11 0TP\, United Kingdom
CATEGORIES:Swimming Pool Fundraiser
ATTACH;FMTTYPE=image/jpeg:https://www.greystokevillage.co.uk/wp-content/uploads/2025/07/Full-Treatment-3-900w.jpg
END:VEVENT
BEGIN:VEVENT
DTSTART;TZID=Europe/London:20250905T180000
DTEND;TZID=Europe/London:20250905T230000
DTSTAMP:20260420T115511
CREATED:20250716T190117Z
LAST-MODIFIED:20250809T080757Z
UID:32846-1757095200-1757113200@www.greystokevillage.co.uk
SUMMARY:Greystoke Beer Festival 2025 - Friday night
DESCRIPTION:Welcome to the 2025 edition of the Greystoke Beer Festival!\nTickets are on sale now! https://www.greystokepool.org.uk/2025-greystoke-beer-festival-5th-6th-september/  \nTickets are £14 pp. Food tickets £10. \nFeaturing Cumbrian ales\, wine and prosecco. Live music both nights. All held at Greystoke Village Hall with a garden marquee \nFriday night sees Raven Aisling Music play in our early evening acoustic slot. Raven Aisling Music are two very talented young musicians who are making a name for themselves playing at venues in Penrith and Newcastle. Raven has the most amazing voice. We are in for a real treat. \nHeadlining on Friday will be The Flookes.\nLooking for the perfect soundtrack to your pint this September? Say hello to The Flookes — a band that knows how to fire up a festival crowd with everything from old-school classics to floor-filling bangers. \nThey’re heading to Greystoke Beer Festival with one goal: to get people dancing\, singing\, and maybe even spilling their drinks (in the name of a good time\, of course). \nBlending feel-good favourites with a few unexpected surprises\, The Flookes don’t take themselves too seriously — they just show up\, plug in\, and bring the kind of fun\, high-energy set that makes festivals unforgettable. \nBehind the instruments? A tight-knit group who’ve been playing together long enough to know how to read a crowd — and get them moving. \nSo grab a beer\, grab your friends\, and get yourself front and centre. \nFood on Friday night will be provided by Neaum.\nNeaum will be catering the event on Friday might with smash burgers or vegetarian burgers served with slaw. \n 
URL:https://www.greystokevillage.co.uk/event/greystoke-beer-festival-2025-friday-night/
LOCATION:Greystoke Village Hall\, Greystoke\, Penrith\, CA11 0TP\, United Kingdom
CATEGORIES:Swimming Pool Fundraiser
ATTACH;FMTTYPE=image/jpeg:https://www.greystokevillage.co.uk/wp-content/uploads/2025/07/Main-Flookes-Banner.jpg
END:VEVENT
END:VCALENDAR